BEGIN:VCALENDAR
VERSION:2.0
PRODID:-//AAEF - ECPv5.1.2.1//NONSGML v1.0//EN
CALSCALE:GREGORIAN
METHOD:PUBLISH
X-WR-CALNAME:AAEF
X-ORIGINAL-URL:https://web.aaef.org.ar
X-WR-CALDESC:Eventos para AAEF
BEGIN:VTIMEZONE
TZID:UTC
BEGIN:STANDARD
TZOFFSETFROM:+0000
TZOFFSETTO:+0000
TZNAME:UTC
DTSTART:20240101T000000
END:STANDARD
END:VTIMEZONE
BEGIN:VEVENT
DTSTART;TZID=UTC:20240507T183000
DTEND;TZID=UTC:20240507T203000
DTSTAMP:20260420T220852
CREATED:20200727T172959Z
LAST-MODIFIED:20250623T195310Z
UID:12797-1715106600-1715113800@web.aaef.org.ar
SUMMARY:Tributación Notarial
DESCRIPTION:Sala de Reunión Zoom \nID de reunión: 821 8369 1226\nContraseña: 987040 \nDías de Reunión: 1º martes del mes\, 18:30 hs. \n
URL:https://web.aaef.org.ar/evento/tributacion-notarial/2024-05-07/
CATEGORIES:Comisiones,Tributación Notarial
END:VEVENT
END:VCALENDAR