BEGIN:VCALENDAR
VERSION:2.0
PRODID:-//AAEF - ECPv5.1.2.1//NONSGML v1.0//EN
CALSCALE:GREGORIAN
METHOD:PUBLISH
X-WR-CALNAME:AAEF
X-ORIGINAL-URL:https://web.aaef.org.ar
X-WR-CALDESC:Eventos para AAEF
BEGIN:VTIMEZONE
TZID:UTC
BEGIN:STANDARD
TZOFFSETFROM:+0000
TZOFFSETTO:+0000
TZNAME:UTC
DTSTART:20240101T000000
END:STANDARD
END:VTIMEZONE
BEGIN:VEVENT
DTSTART;TZID=UTC:20241202T130000
DTEND;TZID=UTC:20241202T150000
DTSTAMP:20260421T093652
CREATED:20200625T115245Z
LAST-MODIFIED:20250930T203933Z
UID:14432-1733144400-1733151600@web.aaef.org.ar
SUMMARY:Tributos Nacionales
DESCRIPTION:Días de reunión: 1er lunes de mes\, 13 hs. \n
URL:https://web.aaef.org.ar/evento/tributos-nacionales/2024-12-02/
CATEGORIES:Comisiones,Tributos Nacionales
END:VEVENT
END:VCALENDAR