BEGIN:VCALENDAR
VERSION:2.0
PRODID:-//AAEF - ECPv5.1.2.1//NONSGML v1.0//EN
CALSCALE:GREGORIAN
METHOD:PUBLISH
X-WR-CALNAME:AAEF
X-ORIGINAL-URL:https://web.aaef.org.ar
X-WR-CALDESC:Eventos para AAEF
BEGIN:VTIMEZONE
TZID:UTC
BEGIN:STANDARD
TZOFFSETFROM:+0000
TZOFFSETTO:+0000
TZNAME:UTC
DTSTART:20260101T000000
END:STANDARD
END:VTIMEZONE
BEGIN:VEVENT
DTSTART;TZID=UTC:20260505T100000
DTEND;TZID=UTC:20260505T120000
DTSTAMP:20260424T184030
CREATED:20260401T202904Z
LAST-MODIFIED:20260401T205017Z
UID:16133-1777975200-1777982400@web.aaef.org.ar
SUMMARY:Vías Procesales estratégicas en el Derecho Tributario Argentino
DESCRIPTION:Directores: Teresa Gómez y Sergio Vieiro \nPresentación del curso \nEl curso aborda las principales acciones y vías de discusión alternativas al procedimiento tributario ordinario –procedimiento de determinación de oficio y/o recursos administrativos– que pueden utilizarse frente a controversias con las autoridades fiscales\, sean estas nacionales\, provinciales o municipales. \nCon relación a las herramientas como el amparo\, la acción declarativa\, las consultas vinculantes; mecanismos alternativos de resolución de conflictos; acciones en sede de las provincias y organismos creados en el ámbito del derecho intrafederal; y especialmente\, medidas cautelares que pueden solicitarse en el marco de cada acción\, se propone la exposición de las condiciones de procedencia\, su articulación con los procedimientos administrativos tradicionales y su impacto práctico en la gestión del conflicto fiscal. El enfoque combina un análisis del marco normativo\, pero fundamentalmente criterios jurisprudenciales relevantes y casos de experiencia de cada vía\, con énfasis en la toma de decisiones estratégicas. \nTiene por objetivo brindar a profesionales abogados y contadores criterios claros para comprender y participar en la evaluación\, desde el inicio de una controversia con la autoridad fiscal\, la conveniencia de recurrir a vías de discusión alternativas o paralelas al procedimiento determinativo de oficio. Se busca promover una mirada estratégica que permita anticipar\, encauzar o redefinir el conflicto tributario de manera eficiente. Además\, se busca generar conciencia acerca de que\, frente a la afectación de derechos y principios legales y constitucionales\, la vía ordinaria de discusión puede no resultar suficiente y es necesario\, con la antelación necesaria\, prever que acciones y mecanismos alternativos pueden resultar recomendables. \nEs preciso ingresar previamente como socio o invitado para luego llenar el formulario\n\n\nAcceso Socios e Invitados\nRegistro de Invitados\n\n \n
URL:https://web.aaef.org.ar/evento/vias-procesales-estrategicas-en-el-derecho-tributario-argentino/
CATEGORIES:Cursos
END:VEVENT
END:VCALENDAR