BEGIN:VCALENDAR
VERSION:2.0
PRODID:-//AAEF - ECPv5.1.2.1//NONSGML v1.0//EN
CALSCALE:GREGORIAN
METHOD:PUBLISH
X-WR-CALNAME:AAEF
X-ORIGINAL-URL:https://web.aaef.org.ar
X-WR-CALDESC:Eventos para AAEF
BEGIN:VTIMEZONE
TZID:UTC
BEGIN:STANDARD
TZOFFSETFROM:+0000
TZOFFSETTO:+0000
TZNAME:UTC
DTSTART:20230101T000000
END:STANDARD
END:VTIMEZONE
BEGIN:VEVENT
DTSTART;TZID=UTC:20230228T180000
DTEND;TZID=UTC:20230228T200000
DTSTAMP:20260423T221413
CREATED:20230223T192251Z
LAST-MODIFIED:20230223T193715Z
UID:9979-1677607200-1677614400@web.aaef.org.ar
SUMMARY:Reunión Febrero Universidad de Maastricht
DESCRIPTION:Debe registrarse como Socio o Invitado para completar el formulario\n\n\nAcceso Socios e Invitados\nRegistro de Invitados\n\n \n \n
URL:https://web.aaef.org.ar/evento/reunion-febrero-universidad-de-maastricht/
CATEGORIES:IFA
END:VEVENT
END:VCALENDAR