BEGIN:VCALENDAR
VERSION:2.0
PRODID:-//AAEF - ECPv5.1.2.1//NONSGML v1.0//EN
CALSCALE:GREGORIAN
METHOD:PUBLISH
X-WR-CALNAME:AAEF
X-ORIGINAL-URL:https://web.aaef.org.ar
X-WR-CALDESC:Eventos para AAEF
BEGIN:VTIMEZONE
TZID:UTC
BEGIN:STANDARD
TZOFFSETFROM:+0000
TZOFFSETTO:+0000
TZNAME:UTC
DTSTART:20230101T000000
END:STANDARD
END:VTIMEZONE
BEGIN:VEVENT
DTSTART;TZID=UTC:20231031T183000
DTEND;TZID=UTC:20231031T203000
DTSTAMP:20260424T092229
CREATED:20230727T194057Z
LAST-MODIFIED:20230727T202345Z
UID:10805-1698777000-1698784200@web.aaef.org.ar
SUMMARY:ASPECTOS CONTROVERTIDOS EN OPERACIONES FINANCIERAS
DESCRIPTION:DIRECTORES: JULIAN A . MARTIN Y VALERIA ESTHATIO\nInicio: martes 31 de octubre 2023\nDías y horario: martes\, 18:30 a 20:30 hs.\ncinco (5) reuniones. \nVISTA PROGRAMA \nEs preciso ingresar previamente como socio o invitado para luego llenar el formulario\n\n\nAcceso Socios e Invitados\nRegistro de Invitados\n\n \n
URL:https://web.aaef.org.ar/evento/aspectos-controvertidos-en-operaciones-financieras-2/
CATEGORIES:Cursos
END:VEVENT
BEGIN:VEVENT
DTSTART;TZID=UTC:20231109T130000
DTEND;TZID=UTC:20231109T150000
DTSTAMP:20260424T092229
CREATED:20231106T171007Z
LAST-MODIFIED:20231106T171246Z
UID:11548-1699534800-1699542000@web.aaef.org.ar
SUMMARY:Comisión de Precios de Transferencia
DESCRIPTION:Debe registrarse como Socio o Invitado para completar el formulario\n\n\nAcceso Socios e Invitados\nRegistro de Invitados\n\n \n
URL:https://web.aaef.org.ar/evento/comision-de-precios-de-transferencia/
CATEGORIES:Comisiones,Precios de Transferencia
END:VEVENT
BEGIN:VEVENT
DTSTART;TZID=UTC:20231114T180000
DTEND;TZID=UTC:20231114T200000
DTSTAMP:20260424T092229
CREATED:20231101T203152Z
LAST-MODIFIED:20231107T185924Z
UID:11551-1699984800-1699992000@web.aaef.org.ar
SUMMARY:IFA YIN LATAM
DESCRIPTION:Debe registrarse como Socio o Invitado para completar el formulario\n\n\nAcceso Socios e Invitados\nRegistro de Invitados\n\n \n
URL:https://web.aaef.org.ar/evento/ifa-yin-latam/
CATEGORIES:Asamblea,IFA
END:VEVENT
BEGIN:VEVENT
DTSTART;TZID=UTC:20231122T180000
DTEND;TZID=UTC:20231122T180000
DTSTAMP:20260424T092229
CREATED:20231011T174358Z
LAST-MODIFIED:20231011T174521Z
UID:11333-1700676000-1700676000@web.aaef.org.ar
SUMMARY:Asamblea General Ordinaria
DESCRIPTION:Debe registrarse como Socio o Invitado para completar el formulario\n\n\nAcceso Socios e Invitados\nRegistro de Invitados\n\n \n
URL:https://web.aaef.org.ar/evento/asamblea-general-ordinaria-2/
CATEGORIES:Asamblea
END:VEVENT
BEGIN:VEVENT
DTSTART;TZID=UTC:20231122T183000
DTEND;TZID=UTC:20231122T183000
DTSTAMP:20260424T092229
CREATED:20221116T175001Z
LAST-MODIFIED:20231102T195819Z
UID:9519-1700677800-1700677800@web.aaef.org.ar
SUMMARY:Acto entrega diploma
DESCRIPTION:Debe registrarse como Socio o Invitado para completar el formulario\n\n\nAcceso Socios e Invitados\nRegistro de Invitados\n\n \n
URL:https://web.aaef.org.ar/evento/acto-entrega-diploma/
CATEGORIES:Asamblea
END:VEVENT
BEGIN:VEVENT
DTSTART;TZID=UTC:20231122T190000
DTEND;TZID=UTC:20231122T190000
DTSTAMP:20260424T092229
CREATED:20231011T172332Z
LAST-MODIFIED:20231011T172332Z
UID:11331-1700679600-1700679600@web.aaef.org.ar
SUMMARY:Cóctel 70 Aniversario
DESCRIPTION:Actividad no arancelada para miembros AAEF \nDebe registrarse como Socio o Invitado para completar el formulario\n\n\nAcceso Socios e Invitados\nRegistro de Invitados\n\n \n
URL:https://web.aaef.org.ar/evento/coctel-70-aniversario/
CATEGORIES:Asamblea
END:VEVENT
BEGIN:VEVENT
DTSTART;TZID=UTC:20231129T090000
DTEND;TZID=UTC:20231129T100000
DTSTAMP:20260424T092229
CREATED:20231124T202011Z
LAST-MODIFIED:20231124T202134Z
UID:11627-1701248400-1701252000@web.aaef.org.ar
SUMMARY:IFA WIN Argentina Chile
DESCRIPTION:Debe registrarse como Socio o Invitado para completar el formulario\n\n\nAcceso Socios e Invitados\nRegistro de Invitados\n\n \n
URL:https://web.aaef.org.ar/evento/ifa-win-argentina-chile/
CATEGORIES:IFA
END:VEVENT
END:VCALENDAR