BEGIN:VCALENDAR
VERSION:2.0
PRODID:-//AAEF - ECPv5.1.2.1//NONSGML v1.0//EN
CALSCALE:GREGORIAN
METHOD:PUBLISH
X-WR-CALNAME:AAEF
X-ORIGINAL-URL:https://web.aaef.org.ar
X-WR-CALDESC:Eventos para AAEF
BEGIN:VTIMEZONE
TZID:UTC
BEGIN:STANDARD
TZOFFSETFROM:+0000
TZOFFSETTO:+0000
TZNAME:UTC
DTSTART:20260101T000000
END:STANDARD
TZID:America/Argentina/Buenos_Aires
BEGIN:STANDARD
TZOFFSETFROM:-0300
TZOFFSETTO:-0300
TZNAME:-03
DTSTART:20260101T000000
END:STANDARD
END:VTIMEZONE
BEGIN:VEVENT
DTSTART;TZID=UTC:20260602T130000
DTEND;TZID=UTC:20260602T150000
DTSTAMP:20260421T022447
CREATED:20251003T195934Z
LAST-MODIFIED:20251003T195934Z
UID:16109-1780405200-1780412400@web.aaef.org.ar
SUMMARY:Administraciones Tributarias
DESCRIPTION:Coordinadores: Elvira Balbo y Juan Dogliani\nDías de reunión: 1er martes del mes\, 13 a 15 hs.\nModalidad Virtual\nPrimera reunión 2026: Martes 7 de abril 2026\, 13 a 15 hs. \n\n                 \n \n                        \n                            Comisiones\n                        \n                        Seleccione una Comisión*Seleccione ComisiónDerecho Penal TributarioFiscalidad de Actividades FinancierasHistoria de los ImpuestosInvestigacionesPrecios de TransferenciaFiscalidad de la Economia Digital y Tecnologias EmergentesTribunales FiscalesRevista de TributaciónProfesoresPrevención del Lavado de DineroProcedimiento TributarioSeguridad SocialTributación AduaneraTributación InternacionalTributos LocalesTributos NacionalesTributación NotarialTribunales Fiscales - Reunión 20 AbrilDesafíos por EquipoAdministraciones TributariasIngrese su DNI para obtener su Nº SocioIDMiembro Nº*Apellido*Nombre*Teléfono*Email*\n                            \n                        Miembro AAEF?NoSiProfesión*Seleccione ProfesiónAbogado/aContador/aLic. Administ.Lic. EconomíaOtraAsiste en forma:*Modo de asistenciaPresencialVirtualComentarioanio\n                            \n          \n            \n            \n            \n            \n            \n            \n            \n            \n            \n        \n                        \n                        \n                \n                jQuery(document).ready(function($){gformInitSpinner( 4\, 'https://web.aaef.org.ar/wp-content/plugins/gravityforms/images/spinner.gif' );jQuery('#gform_ajax_frame_4').on('load'\,function(){var contents = jQuery(this).contents().find('*').html();var is_postback = contents.indexOf('GF_AJAX_POSTBACK') >= 0;if(!is_postback){return;}var form_content = jQuery(this).contents().find('#gform_wrapper_4');var is_confirmation = jQuery(this).contents().find('#gform_confirmation_wrapper_4').length > 0;var is_redirect = contents.indexOf('gformRedirect(){') >= 0;var is_form = form_content.length > 0 && ! is_redirect && ! is_confirmation;var mt = parseInt(jQuery('html').css('margin-top')\, 10) + parseInt(jQuery('body').css('margin-top')\, 10) + 100;if(is_form){jQuery('#gform_wrapper_4').html(form_content.html());if(form_content.hasClass('gform_validation_error')){jQuery('#gform_wrapper_4').addClass('gform_validation_error');} else {jQuery('#gform_wrapper_4').removeClass('gform_validation_error');}setTimeout( function() { /* delay the scroll by 50 milliseconds to fix a bug in chrome */ jQuery(document).scrollTop(jQuery('#gform_wrapper_4').offset().top - mt); }\, 50 );if(window['gformInitDatepicker']) {gformInitDatepicker();}if(window['gformInitPriceFields']) {gformInitPriceFields();}var current_page = jQuery('#gform_source_page_number_4').val();gformInitSpinner( 4\, 'https://web.aaef.org.ar/wp-content/plugins/gravityforms/images/spinner.gif' );jQuery(document).trigger('gform_page_loaded'\, [4\, current_page]);window['gf_submitting_4'] = false;}else if(!is_redirect){var confirmation_content = jQuery(this).contents().find('.GF_AJAX_POSTBACK').html();if(!confirmation_content){confirmation_content = contents;}setTimeout(function(){jQuery('#gform_wrapper_4').replaceWith(confirmation_content);jQuery(document).scrollTop(jQuery('#gf_4').offset().top - mt);jQuery(document).trigger('gform_confirmation_loaded'\, [4]);window['gf_submitting_4'] = false;}\, 50);}else{jQuery('#gform_4').append(contents);if(window['gformRedirect']) {gformRedirect();}}jQuery(document).trigger('gform_post_render'\, [4\, current_page]);} );} ); jQuery(document).bind('gform_post_render'\, function(event\, formId\, currentPage){if(formId == 4) {jQuery('#input_4_11').mask('99999999').bind('keypress'\, function(e){if(e.which == 13){jQuery(this).blur();} } );if(typeof Placeholders != 'undefined'){\n                        Placeholders.enable();\n                    }} } );jQuery(document).bind('gform_post_conditional_logic'\, function(event\, formId\, fields\, isInit){} ); jQuery(document).ready(function(){jQuery(document).trigger('gform_post_render'\, [4\, 1]) } ); \n
URL:https://web.aaef.org.ar/evento/administraciones-tributarias-martes-7-de-octubre-2025-1300-hs/2026-06-02/
CATEGORIES:Comisiones
END:VEVENT
BEGIN:VEVENT
DTSTART;TZID=America/Argentina/Buenos_Aires:20260615T110000
DTEND;TZID=America/Argentina/Buenos_Aires:20260615T130000
DTSTAMP:20260421T022447
CREATED:20200625T113954Z
LAST-MODIFIED:20200625T113954Z
UID:15990-1781521200-1781528400@web.aaef.org.ar
SUMMARY:Seguridad Social
DESCRIPTION:3º lunes de mes \nhorario\, 11:00 hs. \n  \n  \n
URL:https://web.aaef.org.ar/evento/seguridad-social/2026-06-15/
CATEGORIES:Comisiones,Seguridad Social
END:VEVENT
BEGIN:VEVENT
DTSTART;TZID=UTC:20260616T130000
DTEND;TZID=UTC:20260616T150000
DTSTAMP:20260421T022447
CREATED:20200625T114851Z
LAST-MODIFIED:20200625T114851Z
UID:16218-1781614800-1781622000@web.aaef.org.ar
SUMMARY:Tributos Locales
DESCRIPTION:
URL:https://web.aaef.org.ar/evento/tributos-locales/2026-06-16/
CATEGORIES:Comisiones,Tributos Locales
END:VEVENT
BEGIN:VEVENT
DTSTART;TZID=UTC:20260617T100000
DTEND;TZID=UTC:20260617T120000
DTSTAMP:20260421T022447
CREATED:20200727T183216Z
LAST-MODIFIED:20260410T211206Z
UID:16153-1781690400-1781697600@web.aaef.org.ar
SUMMARY:Tribunales Fiscales
DESCRIPTION:
URL:https://web.aaef.org.ar/evento/tribunales-fiscales/2026-06-17/
CATEGORIES:Comisiones,Tribunales Fiscales
END:VEVENT
BEGIN:VEVENT
DTSTART;TZID=UTC:20260618T133000
DTEND;TZID=UTC:20260618T150000
DTSTAMP:20260421T022447
CREATED:20241119T170928Z
LAST-MODIFIED:20241119T170928Z
UID:16017-1781789400-1781794800@web.aaef.org.ar
SUMMARY:Comisión de Prevención de Lavado de Dinero
DESCRIPTION:
URL:https://web.aaef.org.ar/evento/comision-de-prevencion-de-lavado-de-dinero/2026-06-18/
CATEGORIES:Comisiones,Prevención de Lavado de Dinero
END:VEVENT
BEGIN:VEVENT
DTSTART;TZID=UTC:20260624T130000
DTEND;TZID=UTC:20260624T150000
DTSTAMP:20260421T022447
CREATED:20200728T133224Z
LAST-MODIFIED:20200728T133224Z
UID:16009-1782306000-1782313200@web.aaef.org.ar
SUMMARY:Penal Tributario
DESCRIPTION:
URL:https://web.aaef.org.ar/evento/penal-tributario/2026-06-24/
CATEGORIES:Comisiones,Penal Tributario
END:VEVENT
BEGIN:VEVENT
DTSTART;TZID=UTC:20260625T130000
DTEND;TZID=UTC:20260625T140000
DTSTAMP:20260421T022447
CREATED:20200728T181418Z
LAST-MODIFIED:20200728T181418Z
UID:16208-1782392400-1782396000@web.aaef.org.ar
SUMMARY:Fiscalidad de la Economía Digital y Tecnologías Emergentes
DESCRIPTION:Día de reunión: 4º jueves del mes\, 13 hs.\nCambio de Sala Zoom por excepción \n
URL:https://web.aaef.org.ar/evento/fiscalidad-de-la-economia-digital-y-tecnologias-emergentes-2/2026-06-25/
CATEGORIES:Comisiones,Fiscalidad de la Economía Digital y Tecnologías Emergentes
END:VEVENT
END:VCALENDAR